BEGIN:VCALENDAR
VERSION:2.0
PRODID:-//hacksw/handcal//NONSGML v1.0//EN
BEGIN:VEVENT
SUMMARY:Course des hameaux – Faumont (59)
UID:555500e7-f155-4f50-8e55-63cc099d2125
DTSTART:20260328T230000Z
DTEND:20260329T230000Z
LOCATION:Localisation   
CATEGORIES:Sportif
STATUS:
URL;VALUE=URI:https://www.nouveausaec.fr/evenements/2026/03/29/course-des-hameaux-faumont-59-2427632
END:VEVENT
END:VCALENDAR
