BEGIN:VCALENDAR
VERSION:2.0
PRODID:-//hacksw/handcal//NONSGML v1.0//EN
BEGIN:VEVENT
SUMMARY:Championnats de France des 24 Heures
UID:ea1476f4-a48f-4d5c-a382-1fb79a01dcec
DTSTART:20260410T220000Z
DTEND:20260412T220000Z
LOCATION:Localisation   
CATEGORIES:Sportif
STATUS:
URL;VALUE=URI:https://www.nouveausaec.fr/evenements/2026/04/11/championnats-de-france-des-24-heures-2427639
END:VEVENT
END:VCALENDAR
