BEGIN:VCALENDAR
VERSION:2.0
PRODID:-//hacksw/handcal//NONSGML v1.0//EN
BEGIN:VEVENT
SUMMARY:Championnats de France du 10 000 m
UID:3b35b57d-7f0a-4036-84ab-aa20916a9250
DTSTART:20260410T220000Z
DTEND:20260411T220000Z
LOCATION:Localisation   
CATEGORIES:Sportif
STATUS:
URL;VALUE=URI:https://www.nouveausaec.fr/evenements/2026/04/11/championnats-de-france-du-10-000-m-2427636
END:VEVENT
END:VCALENDAR
