BEGIN:VCALENDAR
VERSION:2.0
PRODID:-//hacksw/handcal//NONSGML v1.0//EN
BEGIN:VEVENT
SUMMARY:Animation Eveils a Valenciennes (stade Pierre Carous)
UID:55045c3e-bf1b-4a52-bcc8-0eaa20cc23c9
DTSTART:20260417T220000Z
DTEND:20260418T220000Z
LOCATION:Localisation   
CATEGORIES:Sportif
STATUS:
URL;VALUE=URI:https://www.nouveausaec.fr/evenements/2026/04/18/animation-eveils-a-valenciennes-stade-pierre-carous-2427641
END:VEVENT
END:VCALENDAR
