BEGIN:VCALENDAR
VERSION:2.0
PRODID:-//hacksw/handcal//NONSGML v1.0//EN
BEGIN:VEVENT
SUMMARY:Championnats de France d'Ekiden
UID:0c23478d-18c2-4c7c-83dd-040a0a03c2a0
DTSTART:20260418T220000Z
DTEND:20260419T220000Z
LOCATION:Localisation   
CATEGORIES:Sportif
STATUS:
URL;VALUE=URI:https://www.nouveausaec.fr/evenements/2026/04/19/championnats-de-france-dekiden-2427642
END:VEVENT
END:VCALENDAR
