BEGIN:VCALENDAR
VERSION:2.0
PRODID:-//hacksw/handcal//NONSGML v1.0//EN
BEGIN:VEVENT
SUMMARY:District PO/BE/MI a Somain (stade municipal Georges Facon)
UID:7bebd0a2-b81f-4452-bcf8-d53e7d9888e2
DTSTART:20260424T220000Z
DTEND:20260425T220000Z
LOCATION:Localisation   
CATEGORIES:Sportif
STATUS:
URL;VALUE=URI:https://www.nouveausaec.fr/evenements/2026/04/25/district-pobemi-a-somain-stade-municipal-georges-facon-2427643
END:VEVENT
END:VCALENDAR
