BEGIN:VCALENDAR
VERSION:2.0
PRODID:-//hacksw/handcal//NONSGML v1.0//EN
BEGIN:VEVENT
SUMMARY:Meeting de l'US Maubeuge a Maubeuge (stade Leo Lagrange)
UID:5f9205e7-9fc5-4f3e-9c4d-47dfa8932341
DTSTART:20260424T220000Z
DTEND:20260425T220000Z
LOCATION:Localisation   
CATEGORIES:Sportif
STATUS:
URL;VALUE=URI:https://www.nouveausaec.fr/evenements/2026/04/25/meeting-de-lus-maubeuge-a-maubeuge-stade-leo-lagrange-2427600
END:VEVENT
END:VCALENDAR
