BEGIN:VCALENDAR
VERSION:2.0
PRODID:-//hacksw/handcal//NONSGML v1.0//EN
BEGIN:VEVENT
SUMMARY:Meeting du Marsupi a Armentieres (stade Leo Lagrange)
UID:607bbcf2-7079-42e3-831e-94f3cbcc4b56
DTSTART:20260424T220000Z
DTEND:20260425T220000Z
LOCATION:Localisation   
CATEGORIES:Sportif
STATUS:
URL;VALUE=URI:https://www.nouveausaec.fr/evenements/2026/04/25/meeting-du-marsupi-a-armentieres-stade-leo-lagrange-2427601
END:VEVENT
END:VCALENDAR
