BEGIN:VCALENDAR
VERSION:2.0
PRODID:-//hacksw/handcal//NONSGML v1.0//EN
BEGIN:VEVENT
SUMMARY:District MI a Douchy (Complexe Nelson Mandela)
UID:31c8cf19-8b79-476a-bc7f-01f8545e9396
DTSTART:20260501T220000Z
DTEND:20260502T220000Z
LOCATION:Localisation   
CATEGORIES:Sportif
STATUS:
URL;VALUE=URI:https://www.nouveausaec.fr/evenements/2026/05/02/district-mi-a-douchy-complexe-nelson-mandela-2427648
END:VEVENT
END:VCALENDAR
