BEGIN:VCALENDAR
VERSION:2.0
PRODID:-//hacksw/handcal//NONSGML v1.0//EN
BEGIN:VEVENT
SUMMARY:Kid's Athletics EA a Marquette (Complexe sportif Jean Delebarre)
UID:a002f18f-688b-4fc4-b05e-1b4b90696c0c
DTSTART:20260501T220000Z
DTEND:20260502T220000Z
LOCATION:Localisation   
CATEGORIES:Sportif
STATUS:
URL;VALUE=URI:https://www.nouveausaec.fr/evenements/2026/05/02/kids-athletics-ea-a-marquette-complexe-sportif-jean-delebarre-2427649
END:VEVENT
END:VCALENDAR
