BEGIN:VCALENDAR
VERSION:2.0
PRODID:-//hacksw/handcal//NONSGML v1.0//EN
BEGIN:VEVENT
SUMMARY:Meeting Nelson Mandela a Douchy-les-Mines (complexe sportif Nelson Mandela)
UID:730dc80a-d893-497f-a252-d3252ae9f0a3
DTSTART:20260501T220000Z
DTEND:20260502T220000Z
LOCATION:Localisation   
CATEGORIES:Sportif
STATUS:
URL;VALUE=URI:https://www.nouveausaec.fr/evenements/2026/05/02/meeting-nelson-mandela-a-douchy-les-mines-complexe-sportif-nelson-mandela-2427650
END:VEVENT
END:VCALENDAR
