BEGIN:VCALENDAR
VERSION:2.0
PRODID:-//hacksw/handcal//NONSGML v1.0//EN
BEGIN:VEVENT
SUMMARY:Championnats de France de course en montagne
UID:70e667d4-0249-4895-9f7e-f90d794e6696
DTSTART:20260502T220000Z
DTEND:20260503T220000Z
LOCATION:Localisation   
CATEGORIES:Sportif
STATUS:
URL;VALUE=URI:https://www.nouveausaec.fr/evenements/2026/05/03/championnats-de-france-de-course-en-montagne-2427652
END:VEVENT
END:VCALENDAR
