BEGIN:VCALENDAR
VERSION:2.0
PRODID:-//hacksw/handcal//NONSGML v1.0//EN
BEGIN:VEVENT
SUMMARY:Meeting de courses des 3 Clochers a Cambrai (stade Liberte)
UID:966eaf2c-a856-4b1b-afb9-be38214fdde0
DTSTART:20260505T220000Z
DTEND:20260506T220000Z
LOCATION:Localisation   
CATEGORIES:Sportif
STATUS:
URL;VALUE=URI:https://www.nouveausaec.fr/evenements/2026/05/06/meeting-de-courses-des-3-clochers-a-cambrai-stade-liberte-2427655
END:VEVENT
END:VCALENDAR
