BEGIN:VCALENDAR
VERSION:2.0
PRODID:-//hacksw/handcal//NONSGML v1.0//EN
BEGIN:VEVENT
SUMMARY:District BE a Saint-Amand-les-Eaux (Complexe Jean Verdavaine)
UID:30a2a876-05a4-471f-b2b2-c267fd626104
DTSTART:20260507T220000Z
DTEND:20260508T220000Z
LOCATION:Localisation   
CATEGORIES:Sportif
STATUS:
URL;VALUE=URI:https://www.nouveausaec.fr/evenements/2026/05/08/district-be-a-saint-amand-les-eaux-complexe-jean-verdavaine-2427656
END:VEVENT
END:VCALENDAR
