BEGIN:VCALENDAR
VERSION:2.0
PRODID:-//hacksw/handcal//NONSGML v1.0//EN
BEGIN:VEVENT
SUMMARY:District MI a Saint-Amand-les-Eaux (Complexe Jean Verdavaine)
UID:e70740e3-dbac-4744-8afa-2f82c0dc0bcd
DTSTART:20260507T220000Z
DTEND:20260508T220000Z
LOCATION:Localisation   
CATEGORIES:Sportif
STATUS:
URL;VALUE=URI:https://www.nouveausaec.fr/evenements/2026/05/08/district-mi-a-saint-amand-les-eaux-complexe-jean-verdavaine-2427657
END:VEVENT
END:VCALENDAR
