BEGIN:VCALENDAR
VERSION:2.0
PRODID:-//hacksw/handcal//NONSGML v1.0//EN
BEGIN:VEVENT
SUMMARY:Meeting du Littoral a Dunkerque (stade Kathrine Switzer)
UID:5832c5a2-020d-4ffb-9951-8f980d750a43
DTSTART:20260507T220000Z
DTEND:20260508T220000Z
LOCATION:Localisation   
CATEGORIES:Sportif
STATUS:
URL;VALUE=URI:https://www.nouveausaec.fr/evenements/2026/05/08/meeting-du-littoral-a-dunkerque-stade-kathrine-switzer-2427604
END:VEVENT
END:VCALENDAR
