BEGIN:VCALENDAR
VERSION:2.0
PRODID:-//hacksw/handcal//NONSGML v1.0//EN
BEGIN:VEVENT
SUMMARY:Championnat du Nord d'Epreuves Combinees BE/MI a Villeneuve-d'Ascq (stade Lemaire)
UID:6acbec82-9ad8-4948-b1bf-211450395a78
DTSTART:20260508T220000Z
DTEND:20260509T220000Z
LOCATION:Localisation   
CATEGORIES:Sportif
STATUS:
URL;VALUE=URI:https://www.nouveausaec.fr/evenements/2026/05/09/championnat-du-nord-depreuves-combinees-bemi-a-villeneuve-dascq-stade-lemaire-2427660
END:VEVENT
END:VCALENDAR
