BEGIN:VCALENDAR
VERSION:2.0
PRODID:-//hacksw/handcal//NONSGML v1.0//EN
BEGIN:VEVENT
SUMMARY:Championnats de France de Marche Nordique
UID:e7158900-35fe-4169-8163-ef8557074d93
DTSTART:20260508T220000Z
DTEND:20260509T220000Z
LOCATION:Localisation   
CATEGORIES:Sportif
STATUS:
URL;VALUE=URI:https://www.nouveausaec.fr/evenements/2026/05/09/championnats-de-france-de-marche-nordique-2427661
END:VEVENT
END:VCALENDAR
