BEGIN:VCALENDAR
VERSION:2.0
PRODID:-//hacksw/handcal//NONSGML v1.0//EN
BEGIN:VEVENT
SUMMARY:Meeting de Perche a Cambrai (stade Liberte)
UID:7a2d0b2a-835d-424a-8911-6103d8589f55
DTSTART:20260508T220000Z
DTEND:20260509T220000Z
LOCATION:Localisation   
CATEGORIES:Sportif
STATUS:
URL;VALUE=URI:https://www.nouveausaec.fr/evenements/2026/05/09/meeting-de-perche-a-cambrai-stade-liberte-2427662
END:VEVENT
END:VCALENDAR
