BEGIN:VCALENDAR
VERSION:2.0
PRODID:-//hacksw/handcal//NONSGML v1.0//EN
BEGIN:VEVENT
SUMMARY:Triathlon BE/MI a Lomme (stade des Ormes)
UID:74576a1c-4d12-4fab-a90f-8104e12cd416
DTSTART:20260509T220000Z
DTEND:20260510T220000Z
LOCATION:Localisation   
CATEGORIES:Sportif
STATUS:
URL;VALUE=URI:https://www.nouveausaec.fr/evenements/2026/05/10/triathlon-bemi-a-lomme-stade-des-ormes-2427665
END:VEVENT
END:VCALENDAR
