BEGIN:VCALENDAR
VERSION:2.0
PRODID:-//hacksw/handcal//NONSGML v1.0//EN
BEGIN:VEVENT
SUMMARY:Championnats de France des 100 km
UID:4d23fb1a-d0f7-40e7-85ca-673a2aa49632
DTSTART:20260513T220000Z
DTEND:20260514T220000Z
LOCATION:Localisation   
CATEGORIES:Sportif
STATUS:
URL;VALUE=URI:https://www.nouveausaec.fr/evenements/2026/05/14/championnats-de-france-des-100-km-2427666
END:VEVENT
END:VCALENDAR
