BEGIN:VCALENDAR
VERSION:2.0
PRODID:-//hacksw/handcal//NONSGML v1.0//EN
BEGIN:VEVENT
SUMMARY:Finales N3B a Noyon
UID:8f17e82f-9cb1-4281-94f6-ac8e0cfac816
DTSTART:20260516T220000Z
DTEND:20260517T220000Z
LOCATION:Localisation   
CATEGORIES:Sportif
STATUS:
URL;VALUE=URI:https://www.nouveausaec.fr/evenements/2026/05/17/finales-n3b-a-noyon-2427676
END:VEVENT
END:VCALENDAR
