BEGIN:VCALENDAR
VERSION:2.0
PRODID:-//hacksw/handcal//NONSGML v1.0//EN
BEGIN:VEVENT
SUMMARY:Finale Nationale Equip'Athle
UID:9a815361-dab4-4c7c-879f-8b14dff132f0
DTSTART:20260522T220000Z
DTEND:20260524T220000Z
LOCATION:Localisation   
CATEGORIES:Sportif
STATUS:
URL;VALUE=URI:https://www.nouveausaec.fr/evenements/2026/05/23/finale-nationale-equipathle-2427678
END:VEVENT
END:VCALENDAR
