BEGIN:VCALENDAR
VERSION:2.0
PRODID:-//hacksw/handcal//NONSGML v1.0//EN
BEGIN:VEVENT
SUMMARY:Finale Regionale Equip'Athle a Lens
UID:58422178-a5f7-4dc5-99de-ee6f2da2bdbb
DTSTART:20260523T220000Z
DTEND:20260524T220000Z
LOCATION:Localisation   
CATEGORIES:Sportif
STATUS:
URL;VALUE=URI:https://www.nouveausaec.fr/evenements/2026/05/24/finale-regionale-equipathle-a-lens-2427679
END:VEVENT
END:VCALENDAR
