BEGIN:VCALENDAR
VERSION:2.0
PRODID:-//hacksw/handcal//NONSGML v1.0//EN
BEGIN:VEVENT
SUMMARY:Meeting C. Moncomble - Laon (02)
UID:b057eb45-0ffe-4ce3-9931-347b3b30075f
DTSTART:20260524T220000Z
DTEND:20260525T220000Z
LOCATION:Localisation   
CATEGORIES:Sportif
STATUS:
URL;VALUE=URI:https://www.nouveausaec.fr/evenements/2026/05/25/meeting-c-moncomble-laon-02-2427680
END:VEVENT
END:VCALENDAR
