BEGIN:VCALENDAR
VERSION:2.0
PRODID:-//hacksw/handcal//NONSGML v1.0//EN
BEGIN:VEVENT
SUMMARY:Meeting Lancers et Sauts a Caudry (stade Louis Sandras)
UID:b77d00ed-5604-4625-87c6-86fac0c03190
DTSTART:20260524T220000Z
DTEND:20260525T220000Z
LOCATION:Localisation   
CATEGORIES:Sportif
STATUS:
URL;VALUE=URI:https://www.nouveausaec.fr/evenements/2026/05/25/meeting-lancers-et-sauts-a-caudry-stade-louis-sandras-2427607
END:VEVENT
END:VCALENDAR
