BEGIN:VCALENDAR
VERSION:2.0
PRODID:-//hacksw/handcal//NONSGML v1.0//EN
BEGIN:VEVENT
SUMMARY:Meeting de la Municipalite a Auby (stade Aldebert Valette)
UID:e05e5cff-a311-4f16-adbd-eb4f0114df85
DTSTART:20260526T220000Z
DTEND:20260527T220000Z
LOCATION:Localisation   
CATEGORIES:Sportif
STATUS:
URL;VALUE=URI:https://www.nouveausaec.fr/evenements/2026/05/27/meeting-de-la-municipalite-a-auby-stade-aldebert-valette-2427682
END:VEVENT
END:VCALENDAR
