BEGIN:VCALENDAR
VERSION:2.0
PRODID:-//hacksw/handcal//NONSGML v1.0//EN
BEGIN:VEVENT
SUMMARY:Championnats Regionaux 8228 a Tergnier
UID:71b7905c-deb8-4d1f-a7d9-6b5ac8c65f72
DTSTART:20260529T220000Z
DTEND:20260530T220000Z
LOCATION:Localisation   
CATEGORIES:Sportif
STATUS:
URL;VALUE=URI:https://www.nouveausaec.fr/evenements/2026/05/30/championnats-regionaux-8228-a-tergnier-2427683
END:VEVENT
END:VCALENDAR
