BEGIN:VCALENDAR
VERSION:2.0
PRODID:-//hacksw/handcal//NONSGML v1.0//EN
BEGIN:VEVENT
SUMMARY:Championnats Regionaux Minimes EC
UID:979f710b-a8ae-4070-8cf5-1d489cda2a66
DTSTART:20260529T220000Z
DTEND:20260531T220000Z
LOCATION:Localisation   
CATEGORIES:Sportif
STATUS:
URL;VALUE=URI:https://www.nouveausaec.fr/evenements/2026/05/30/championnats-regionaux-minimes-ec-2427687
END:VEVENT
END:VCALENDAR
