BEGIN:VCALENDAR
VERSION:2.0
PRODID:-//hacksw/handcal//NONSGML v1.0//EN
BEGIN:VEVENT
SUMMARY:Meeting du CA Fourmies a Fourmies (stade Leo Lagrange)
UID:b7928bee-b64c-4d4c-afe1-e6395a442e9d
DTSTART:20260529T220000Z
DTEND:20260530T220000Z
LOCATION:Localisation   
CATEGORIES:Sportif
STATUS:
URL;VALUE=URI:https://www.nouveausaec.fr/evenements/2026/05/30/meeting-du-ca-fourmies-a-fourmies-stade-leo-lagrange-2427609
END:VEVENT
END:VCALENDAR
