BEGIN:VCALENDAR
VERSION:2.0
PRODID:-//hacksw/handcal//NONSGML v1.0//EN
BEGIN:VEVENT
SUMMARY:Meeting National - Tergnier (02)
UID:b32ee3fb-c948-4dc5-8808-26bccba7ab87
DTSTART:20260529T220000Z
DTEND:20260530T220000Z
LOCATION:Localisation   
CATEGORIES:Sportif
STATUS:
URL;VALUE=URI:https://www.nouveausaec.fr/evenements/2026/05/30/meeting-national-tergnier-02-2427685
END:VEVENT
END:VCALENDAR
