BEGIN:VCALENDAR
VERSION:2.0
PRODID:-//hacksw/handcal//NONSGML v1.0//EN
BEGIN:VEVENT
SUMMARY:Week-end qualificatif d'Epreuves Combinees de CA a SE a Lomme (stade des Ormes)
UID:f66fefbc-e508-4edf-be63-7a3c159b93d1
DTSTART:20260529T220000Z
DTEND:20260531T220000Z
LOCATION:Localisation   
CATEGORIES:Sportif
STATUS:
URL;VALUE=URI:https://www.nouveausaec.fr/evenements/2026/05/30/week-end-qualificatif-depreuves-combinees-de-ca-a-se-a-lomme-stade-des-ormes-2427688
END:VEVENT
END:VCALENDAR
