BEGIN:VCALENDAR
VERSION:2.0
PRODID:-//hacksw/handcal//NONSGML v1.0//EN
BEGIN:VEVENT
SUMMARY:Triathlon BE/MI a Lille (stade Leo Lagrange)
UID:77f63a1a-a0f2-4d07-859e-50d3a85c68d1
DTSTART:20260530T220000Z
DTEND:20260531T220000Z
LOCATION:Localisation   
CATEGORIES:Sportif
STATUS:
URL;VALUE=URI:https://www.nouveausaec.fr/evenements/2026/05/31/triathlon-bemi-a-lille-stade-leo-lagrange-2427689
END:VEVENT
END:VCALENDAR
