BEGIN:VCALENDAR
VERSION:2.0
PRODID:-//hacksw/handcal//NONSGML v1.0//EN
BEGIN:VEVENT
SUMMARY:Meeting 1/2 fond du VAFA - Villeneuve-d'Ascq (59)
UID:d88a7748-384e-41e2-843a-8c49d895b5b9
DTSTART:20260604T220000Z
DTEND:20260605T220000Z
LOCATION:Localisation   
CATEGORIES:Sportif
STATUS:
URL;VALUE=URI:https://www.nouveausaec.fr/evenements/2026/06/05/meeting-12-fond-du-vafa-villeneuve-dascq-59-2427692
END:VEVENT
END:VCALENDAR
