BEGIN:VCALENDAR
VERSION:2.0
PRODID:-//hacksw/handcal//NONSGML v1.0//EN
BEGIN:VEVENT
SUMMARY:Meeting du CD59 de CA a SE a Lomme (stade des Ormes)
UID:35384dc8-478a-4823-b953-a09d94c044a4
DTSTART:20260606T220000Z
DTEND:20260607T220000Z
LOCATION:Localisation   
CATEGORIES:Sportif
STATUS:
URL;VALUE=URI:https://www.nouveausaec.fr/evenements/2026/06/07/meeting-du-cd59-de-ca-a-se-a-lomme-stade-des-ormes-2427694
END:VEVENT
END:VCALENDAR
