BEGIN:VCALENDAR
VERSION:2.0
PRODID:-//hacksw/handcal//NONSGML v1.0//EN
BEGIN:VEVENT
SUMMARY:Epreuves encadrement Minimes a Lomme (stade des Ormes)
UID:9fa79e5f-fb3e-438f-b15e-6a764f3cc117
DTSTART:20260611T220000Z
DTEND:20260612T220000Z
LOCATION:Localisation   
CATEGORIES:Sportif
STATUS:
URL;VALUE=URI:https://www.nouveausaec.fr/evenements/2026/06/12/epreuves-encadrement-minimes-a-lomme-stade-des-ormes-2427696
END:VEVENT
END:VCALENDAR
