BEGIN:VCALENDAR
VERSION:2.0
PRODID:-//hacksw/handcal//NONSGML v1.0//EN
BEGIN:VEVENT
SUMMARY:Meeting de la Parite - Lomme (59)
UID:db4d4c21-b237-41c6-ab2f-c09a1dbac4d6
DTSTART:20260611T220000Z
DTEND:20260612T220000Z
LOCATION:Localisation   
CATEGORIES:Sportif
STATUS:
URL;VALUE=URI:https://www.nouveausaec.fr/evenements/2026/06/12/meeting-de-la-parite-lomme-59-2427695
END:VEVENT
END:VCALENDAR
