BEGIN:VCALENDAR
VERSION:2.0
PRODID:-//hacksw/handcal//NONSGML v1.0//EN
BEGIN:VEVENT
SUMMARY:Championnat du Nord PO/BE Hainaut a Douchy-les-Mines (complexe Nelson Mandela)
UID:04c36a9a-aaf0-49bb-9d9b-187ed2e59bdb
DTSTART:20260612T220000Z
DTEND:20260613T220000Z
LOCATION:Localisation   
CATEGORIES:Sportif
STATUS:
URL;VALUE=URI:https://www.nouveausaec.fr/evenements/2026/06/13/championnat-du-nord-pobe-hainaut-a-douchy-les-mines-complexe-nelson-mandela-2427697
END:VEVENT
END:VCALENDAR
