BEGIN:VCALENDAR
VERSION:2.0
PRODID:-//hacksw/handcal//NONSGML v1.0//EN
BEGIN:VEVENT
SUMMARY:Championnat du Nord PO/BE Metropole/Maritime a Dunkerque (stade Kathrine Switzer)
UID:5714a41a-e491-4c1f-9cff-72c3fde32f01
DTSTART:20260612T220000Z
DTEND:20260613T220000Z
LOCATION:Localisation   
CATEGORIES:Sportif
STATUS:
URL;VALUE=URI:https://www.nouveausaec.fr/evenements/2026/06/13/championnat-du-nord-pobe-metropolemaritime-a-dunkerque-stade-kathrine-switzer-2427698
END:VEVENT
END:VCALENDAR
