BEGIN:VCALENDAR
VERSION:2.0
PRODID:-//hacksw/handcal//NONSGML v1.0//EN
BEGIN:VEVENT
SUMMARY:Meeting de Perche a Tourcoing (stade Vandeveegaete)
UID:f5a9576f-de3d-4f99-acb5-3cb150ac8c61
DTSTART:20260613T220000Z
DTEND:20260614T220000Z
LOCATION:Localisation   
CATEGORIES:Sportif
STATUS:
URL;VALUE=URI:https://www.nouveausaec.fr/evenements/2026/06/14/meeting-de-perche-a-tourcoing-stade-vandeveegaete-2427700
END:VEVENT
END:VCALENDAR
