BEGIN:VCALENDAR
VERSION:2.0
PRODID:-//hacksw/handcal//NONSGML v1.0//EN
BEGIN:VEVENT
SUMMARY:Meeting du BOUC - Beauvais (60)
UID:f5edda19-0b95-408b-9087-e8b3406e8c88
DTSTART:20260618T220000Z
DTEND:20260619T220000Z
LOCATION:Localisation   
CATEGORIES:Sportif
STATUS:
URL;VALUE=URI:https://www.nouveausaec.fr/evenements/2026/06/19/meeting-du-bouc-beauvais-60-2427701
END:VEVENT
END:VCALENDAR
