BEGIN:VCALENDAR
VERSION:2.0
PRODID:-//hacksw/handcal//NONSGML v1.0//EN
BEGIN:VEVENT
SUMMARY:Meeting du Souvenir - Valenciennes (59)
UID:fa885ba7-010e-4f3d-9f2b-f952cf356fa6
DTSTART:20260618T220000Z
DTEND:20260619T220000Z
LOCATION:Localisation   
CATEGORIES:Sportif
STATUS:
URL;VALUE=URI:https://www.nouveausaec.fr/evenements/2026/06/19/meeting-du-souvenir-valenciennes-59-2427702
END:VEVENT
END:VCALENDAR
