BEGIN:VCALENDAR
VERSION:2.0
PRODID:-//hacksw/handcal//NONSGML v1.0//EN
BEGIN:VEVENT
SUMMARY:Animations Eveils a Saint-Amand-les-Eaux (Complexe Jean Verdavaine)
UID:3a2fb77b-3c61-4982-a869-0c2f7d8ef9ef
DTSTART:20260619T220000Z
DTEND:20260620T220000Z
LOCATION:Localisation   
CATEGORIES:Sportif
STATUS:
URL;VALUE=URI:https://www.nouveausaec.fr/evenements/2026/06/20/animations-eveils-a-saint-amand-les-eaux-complexe-jean-verdavaine-2427703
END:VEVENT
END:VCALENDAR
