BEGIN:VCALENDAR
VERSION:2.0
PRODID:-//hacksw/handcal//NONSGML v1.0//EN
BEGIN:VEVENT
SUMMARY:Championnats Regionaux E.C. C-J-E-S a Laon
UID:01fa0244-2dce-4d90-bf39-bb14d08c196e
DTSTART:20260619T220000Z
DTEND:20260621T220000Z
LOCATION:Localisation   
CATEGORIES:Sportif
STATUS:
URL;VALUE=URI:https://www.nouveausaec.fr/evenements/2026/06/20/championnats-regionaux-ec-c-j-e-s-a-laon-2427706
END:VEVENT
END:VCALENDAR
