BEGIN:VCALENDAR
VERSION:2.0
PRODID:-//hacksw/handcal//NONSGML v1.0//EN
BEGIN:VEVENT
SUMMARY:Kid's Athletics Baby et EA a Hazebrouck (stade Auguste Damette)
UID:d93540ff-9cbf-4e20-b836-6bd4430c21b6
DTSTART:20260619T220000Z
DTEND:20260620T220000Z
LOCATION:Localisation   
CATEGORIES:Sportif
STATUS:
URL;VALUE=URI:https://www.nouveausaec.fr/evenements/2026/06/20/kids-athletics-baby-et-ea-a-hazebrouck-stade-auguste-damette-2427704
END:VEVENT
END:VCALENDAR
