BEGIN:VCALENDAR
VERSION:2.0
PRODID:-//hacksw/handcal//NONSGML v1.0//EN
BEGIN:VEVENT
SUMMARY:Meeting Emmanuel Mathieu - Marck (62)
UID:dbf08afa-f894-4a18-b2eb-7bb478b6e222
DTSTART:20260619T220000Z
DTEND:20260620T220000Z
LOCATION:Localisation   
CATEGORIES:Sportif
STATUS:
URL;VALUE=URI:https://www.nouveausaec.fr/evenements/2026/06/20/meeting-emmanuel-mathieu-marck-62-2427705
END:VEVENT
END:VCALENDAR
