BEGIN:VCALENDAR
VERSION:2.0
PRODID:-//hacksw/handcal//NONSGML v1.0//EN
BEGIN:VEVENT
SUMMARY:Regionaux Minimes a Compiegne
UID:260c80b0-4ded-4a99-bb78-27f5921c743d
DTSTART:20260620T220000Z
DTEND:20260621T220000Z
LOCATION:Localisation   
CATEGORIES:Sportif
STATUS:
URL;VALUE=URI:https://www.nouveausaec.fr/evenements/2026/06/21/regionaux-minimes-a-compiegne-2427707
END:VEVENT
END:VCALENDAR
