BEGIN:VCALENDAR
VERSION:2.0
PRODID:-//hacksw/handcal//NONSGML v1.0//EN
BEGIN:VEVENT
SUMMARY:Meeting JL Lemire - Lievin (62)
UID:55459a1e-8247-45cc-bc09-d5f987605dcb
DTSTART:20260623T220000Z
DTEND:20260624T220000Z
LOCATION:Localisation   
CATEGORIES:Sportif
STATUS:
URL;VALUE=URI:https://www.nouveausaec.fr/evenements/2026/06/24/meeting-jl-lemire-lievin-62-2427708
END:VEVENT
END:VCALENDAR
