BEGIN:VCALENDAR
VERSION:2.0
PRODID:-//hacksw/handcal//NONSGML v1.0//EN
BEGIN:VEVENT
SUMMARY:Meeting National - Halluin (59)
UID:f244136a-6bd4-49e5-8636-ea8b95f073c0
DTSTART:20260623T220000Z
DTEND:20260624T220000Z
LOCATION:Localisation   
CATEGORIES:Sportif
STATUS:
URL;VALUE=URI:https://www.nouveausaec.fr/evenements/2026/06/24/meeting-national-halluin-59-2427709
END:VEVENT
END:VCALENDAR
