BEGIN:VCALENDAR
VERSION:2.0
PRODID:-//hacksw/handcal//NONSGML v1.0//EN
BEGIN:VEVENT
SUMMARY:Meeting de l'Athletic Club des Hauts Monts a Hautmont (stade Jean DAMIEN)
UID:8201a4f9-fc9f-4928-a091-dcd49beea34c
DTSTART:20260625T220000Z
DTEND:20260626T220000Z
LOCATION:Localisation   
CATEGORIES:Sportif
STATUS:
URL;VALUE=URI:https://www.nouveausaec.fr/evenements/2026/06/26/meeting-de-lathletic-club-des-hauts-monts-a-hautmont-stade-jean-damien-2427611
END:VEVENT
END:VCALENDAR
